BEGIN:VCALENDAR
VERSION:2.0
PRODID:-//Maple String Quartet • Vancouver Based Musicians - ECPv6.15.20//NONSGML v1.0//EN
CALSCALE:GREGORIAN
METHOD:PUBLISH
X-WR-CALNAME:Maple String Quartet • Vancouver Based Musicians
X-ORIGINAL-URL:https://www.maplequartet.com
X-WR-CALDESC:Events for Maple String Quartet • Vancouver Based Musicians
REFRESH-INTERVAL;VALUE=DURATION:PT1H
X-Robots-Tag:noindex
X-PUBLISHED-TTL:PT1H
BEGIN:VTIMEZONE
TZID:America/Vancouver
BEGIN:DAYLIGHT
TZOFFSETFROM:-0800
TZOFFSETTO:-0700
TZNAME:PDT
DTSTART:20250309T100000
END:DAYLIGHT
BEGIN:STANDARD
TZOFFSETFROM:-0700
TZOFFSETTO:-0800
TZNAME:PST
DTSTART:20251102T090000
END:STANDARD
BEGIN:DAYLIGHT
TZOFFSETFROM:-0800
TZOFFSETTO:-0700
TZNAME:PDT
DTSTART:20260308T100000
END:DAYLIGHT
BEGIN:STANDARD
TZOFFSETFROM:-0700
TZOFFSETTO:-0800
TZNAME:PST
DTSTART:20261101T090000
END:STANDARD
BEGIN:DAYLIGHT
TZOFFSETFROM:-0800
TZOFFSETTO:-0700
TZNAME:PDT
DTSTART:20270314T100000
END:DAYLIGHT
BEGIN:STANDARD
TZOFFSETFROM:-0700
TZOFFSETTO:-0800
TZNAME:PST
DTSTART:20271107T090000
END:STANDARD
END:VTIMEZONE
BEGIN:VEVENT
DTSTART;TZID=America/Vancouver:20260328T190000
DTEND;TZID=America/Vancouver:20260328T200000
DTSTAMP:20260420T062217
CREATED:20260328T001538Z
LAST-MODIFIED:20260328T001538Z
UID:2932-1774724400-1774728000@www.maplequartet.com
SUMMARY:Candlelight: Tribute to ABBA
DESCRIPTION:Overview\nCandlelight concerts bring the magic of a live\, multi-sensory musical experience to awe-inspiring locations like never seen before in Vancouver. Get your tickets now to discover the music of ABBA at Christ Church Cathedral under the gentle glow of candlelight. \nGeneral Info\n\n📍 Venue: Christ Church Cathedral\n⏳ Duration: 60 minutes. Doors open 45 minutes before the show. No entry once it starts.\n👤 Age recommendation: The experience is recommended for those who are 8+. To preserve the experience\, disruptive behaviour may result in being asked to step outside. Anyone under the age of 16 must be accompanied by an adult.\n♿ Accessibility: This venue is accessible for people with reduced mobility\n🪑 Seating: Seating is assigned on a first come first served basis in each zone\n\nTentative Program\n\nDancing Queen\nSOS\nMoney\, Money\, Money\nThe Winner Takes it All\nVoulez-Vous\nAngeleyes\nWaterloo\nFernando\nKnowing Me\, Knowing You\nChiquitita\nLay All Your Love On Me\nSuper Trouper\nMamma Mia\n\nPerformers\n🎻 String Quartet: 2 violins\, 1 viola\, 1 cello \nBook a Private Event\nLooking to create an unforgettable experience for your wedding\, or special occasion? We offer private event bookings with customized programs tailored to your needs. \nGet a quote
URL:https://www.maplequartet.com/concert/candlelight-tribute-to-abba/
LOCATION:Christ Church Cathedral\, Vancouver\, Canada
CATEGORIES:Vancouver, BC
ATTACH;FMTTYPE=image/jpeg:https://www.maplequartet.com/wp-content/uploads/2026/03/f51b8418-25ae-11f0-a83d-9e59e0727bbd-T9Hkls-D1Qdif.jpg
END:VEVENT
END:VCALENDAR