BEGIN:VCALENDAR
VERSION:2.0
PRODID:-//Maple String Quartet • Vancouver Based Musicians - ECPv6.15.20//NONSGML v1.0//EN
CALSCALE:GREGORIAN
METHOD:PUBLISH
X-ORIGINAL-URL:https://www.maplequartet.com
X-WR-CALDESC:Events for Maple String Quartet • Vancouver Based Musicians
REFRESH-INTERVAL;VALUE=DURATION:PT1H
X-Robots-Tag:noindex
X-PUBLISHED-TTL:PT1H
BEGIN:VTIMEZONE
TZID:UTC
BEGIN:STANDARD
TZOFFSETFROM:+0000
TZOFFSETTO:+0000
TZNAME:UTC
DTSTART:20250101T000000
END:STANDARD
END:VTIMEZONE
BEGIN:VEVENT
DTSTART;TZID=UTC:20260403T190000
DTEND;TZID=UTC:20260403T200000
DTSTAMP:20260420T062217
CREATED:20260407T150623Z
LAST-MODIFIED:20260407T150623Z
UID:2946-1775242800-1775246400@www.maplequartet.com
SUMMARY:Candlelight: 90s Unplugged
DESCRIPTION:Experience an enchanting evening of timeless melodies at the upcoming ‘Candlelight: 90s Unplugged’ concert in the serene ambiance of Kerrisdale Presbyterian Church\, Vancouver. As the sun sets\, immerse yourself in the captivating performance of a celebrated string quartet as they reimagine iconic 90s hits under the gentle glow of candlelight. This unique live music event promises an unforgettable journey through the decade’s most cherished tunes\, seamlessly woven into a symphony that transcends time. Join us for an evening of nostalgia\, beauty\, and exceptional talent – a perfect blend for a magical experience you won’t want to miss in Vancouver. Book your tickets now to secure your spot at this one-of-a-kind candlelight concert! \nEvent Details\n\nVenue: Kerrisdale Presbyterian Church\nCity: Vancouver\nShowtimes: 7:00p\nPerformers: String Quartet – Listeso – Vancouver\n\nBuy Tickets  |  Get a Quote
URL:https://www.maplequartet.com/concert/candlelight-90s-unplugged/
LOCATION:Kerrisdale Presbyterian Church\, Vancouver\, US
END:VEVENT
END:VCALENDAR