BEGIN:VCALENDAR
VERSION:2.0
PRODID:-//Maple String Quartet • Vancouver Based Musicians - ECPv6.15.20//NONSGML v1.0//EN
CALSCALE:GREGORIAN
METHOD:PUBLISH
X-ORIGINAL-URL:https://www.maplequartet.com
X-WR-CALDESC:Events for Maple String Quartet • Vancouver Based Musicians
REFRESH-INTERVAL;VALUE=DURATION:PT1H
X-Robots-Tag:noindex
X-PUBLISHED-TTL:PT1H
BEGIN:VTIMEZONE
TZID:UTC
BEGIN:STANDARD
TZOFFSETFROM:+0000
TZOFFSETTO:+0000
TZNAME:UTC
DTSTART:20250101T000000
END:STANDARD
END:VTIMEZONE
BEGIN:VEVENT
DTSTART;TZID=UTC:20260403T190000
DTEND;TZID=UTC:20260403T200000
DTSTAMP:20260420T080242
CREATED:20260407T150623Z
LAST-MODIFIED:20260407T150623Z
UID:2946-1775242800-1775246400@www.maplequartet.com
SUMMARY:Candlelight: 90s Unplugged
DESCRIPTION:Experience an enchanting evening of timeless melodies at the upcoming ‘Candlelight: 90s Unplugged’ concert in the serene ambiance of Kerrisdale Presbyterian Church\, Vancouver. As the sun sets\, immerse yourself in the captivating performance of a celebrated string quartet as they reimagine iconic 90s hits under the gentle glow of candlelight. This unique live music event promises an unforgettable journey through the decade’s most cherished tunes\, seamlessly woven into a symphony that transcends time. Join us for an evening of nostalgia\, beauty\, and exceptional talent – a perfect blend for a magical experience you won’t want to miss in Vancouver. Book your tickets now to secure your spot at this one-of-a-kind candlelight concert! \nEvent Details\n\nVenue: Kerrisdale Presbyterian Church\nCity: Vancouver\nShowtimes: 7:00p\nPerformers: String Quartet – Listeso – Vancouver\n\nBuy Tickets  |  Get a Quote
URL:https://www.maplequartet.com/concert/candlelight-90s-unplugged/
LOCATION:Kerrisdale Presbyterian Church\, Vancouver\, US
END:VEVENT
BEGIN:VEVENT
DTSTART;TZID=UTC:20260417T190000
DTEND;TZID=UTC:20260417T200000
DTSTAMP:20260420T080242
CREATED:20260407T150354Z
LAST-MODIFIED:20260407T150354Z
UID:2947-1776452400-1776456000@www.maplequartet.com
SUMMARY:Candlelight: Tribute to Leonard Cohen
DESCRIPTION:⭐   Candlelight    concerts bring the magic of a live\, multi-sensory musical experience to awe-inspiring locations like never seen before in Vancouver. Get your tickets now to discover the music of Leonard Cohen at Kerrisdale Presbyterian Church under the gentle glow of candlelight.    General Info   📍 Venue: Kerrisdale Presbyterian Church  📅 Dates and times: select your dates/times directly in the ticket selector  ⏳ Duration: 60 minutes. Doors open 30 minutes before the show and  close 5 minutes prior to the start. Late arrivals will not be permitted   👤 Age requirement: 8 years old or older. Anyone under the age of 16 must be accompanied by an adult  ♿ Accessibility: this venue is accessible for people with reduced mobility  ❓ View the FAQs for this event  here   🪑 Seating is assigned on a first come first served basis in each zone  🕯️ If you would like to book a private concert or buy regular tickets for a large group (+30 people)\, click  here   🎻 Check out all the  Candlelight concerts  in Vancouver  🎁 To treat your friends and family to a Candlelight gift card\, click  here    Tentative Program    “So Long\, Marianne”  “Suzanne”  “Hallelujah”  “I’m Your Man”  “Hey\, That’s No Way to Say Goodbye”  “Dance Me to the End of Love”  “Take This Waltz”  “Everybody Knows”  “Master Song”  “Treaty”     Performers  String Quartet:   2 violins  1 viola  1 cello     Seating Map    \nEvent Details\n\nVenue: Kerrisdale Presbyterian Church\nCity: Vancouver\nShowtimes: 8:30p\nPerformers: Listeso String Quartet\n\nBuy Tickets  |  Get a Quote
URL:https://www.maplequartet.com/concert/candlelight-tribute-to-leonard-cohen/
LOCATION:Kerrisdale Presbyterian Church\, Vancouver\, US
END:VEVENT
BEGIN:VEVENT
DTSTART;TZID=UTC:20260418T190000
DTEND;TZID=UTC:20260418T200000
DTSTAMP:20260420T080242
CREATED:20260407T150330Z
LAST-MODIFIED:20260407T150330Z
UID:2948-1776538800-1776542400@www.maplequartet.com
SUMMARY:Candlelight: The Best of Hans Zimmer
DESCRIPTION:⭐   Candlelight    concerts bring the magic of a live\, multi-sensory musical experience to awe-inspiring locations like never seen before in Vancouver. Get your tickets now to discover the music of Hans Zimmer at Christ Church Cathedral under the gentle glow of candlelight.   \n🌸  To celebrate Candlelight Spring\, a limited number of sessions feature a special floral setting. All other sessions follow the standard Candlelight setup. See the dates below.   \n General Info\n📍 Venue: Christ Church Cathedral\n📅 Dates and times: select your dates/times directly in the ticket selector\n⏳ Duration: 60 minutes. Doors open 45 minutes before the show. No entry once it starts.\n👤 Age recommendation: The experience is recommended for those who are 8+. To preserve the experience\, disruptive behaviour may result in being asked to step outside. Anyone under the age of 16 must be accompanied by an adult.\n♿ Accessibility: this venue is accessible for people with reduced mobility\n❓ View the FAQs for this event  here\n🪑 Seating is assigned on a first come first served basis in each zone\n🕯️ If you would like to book a private concert or buy regular tickets for a large group (+30 people)\, click  here\n🎻 Check out all the  Candlelight concerts  in Vancouver\n🎁 To treat your friends and family to a Candlelight gift card\, click  here   \n Tentative Program  \n	 Time from  Inception\n	 This Land from  The Lion King\n	 Zooster’s Breakout from  Madagascar\n	 Supermarine from  Dunkirk\n	 Honor from  The Pacific\n	 A Dark Knight from  The Dark Knight\n	  Wonder Woman  Suite\n	  Gladiator  Suite\n	 Cornfield Chase from  Interstellar\n	  Dune  Suite\n	 Discombobulate from  Sherlock Holmes\n	  Pirates of the Caribbean  Suite  \n  \n  Sessions with Candlelight Spring flower setting:   \n	 April 18  \n Performers\nString Quartet: \n	 2 violins\n	 1 viola\n	 1 cello  \n  \n  Seating Map   \nEvent Details\n\nVenue: Christ Church Cathedral – Vancouver\nCity: Vancouver\nShowtimes: 8:30p\, 6:30p\nPerformers: Listeso String Quartet\n\nBuy Tickets  |  Get a Quote
URL:https://www.maplequartet.com/concert/candlelight-the-best-of-hans-zimmer/
LOCATION:Christ Church Cathedral – Vancouver\, Vancouver\, US
END:VEVENT
BEGIN:VEVENT
DTSTART;TZID=UTC:20260501T190000
DTEND;TZID=UTC:20260501T200000
DTSTAMP:20260420T080242
CREATED:20260407T150200Z
LAST-MODIFIED:20260407T150200Z
UID:2952-1777662000-1777665600@www.maplequartet.com
SUMMARY:Candlelight: Tribute to Fleetwood Mac
DESCRIPTION:Experience an enchanting evening as the ethereal melodies of Fleetwood Mac are reimagined by a captivating string quartet in the intimate setting of Kerrisdale Presbyterian Church\, Vancouver. The Candlelight: Tribute to Fleetwood Mac concert invites you on a journey through time\, with the soft glow of candles illuminating the romantic ambiance as the quartet performs iconic hits like ‘Landslide’\, ‘Dreams’\, and ‘Go Your Own Way’. This live music event promises a unique twist on classic favorites\, making it an unforgettable night of music that you won’t want to miss. Join us in Vancouver for a magical tribute to Fleetwood Mac under the gentle glow of candlelight. \nEvent Details\n\nVenue: Kerrisdale Presbyterian Church\nCity: Vancouver\nShowtimes: 7:00p\nPerformers: Listeso String Quartet\n\nBuy Tickets  |  Get a Quote
URL:https://www.maplequartet.com/concert/candlelight-tribute-to-fleetwood-mac/
LOCATION:Kerrisdale Presbyterian Church\, Vancouver\, US
END:VEVENT
BEGIN:VEVENT
DTSTART;TZID=UTC:20260516T190000
DTEND;TZID=UTC:20260516T200000
DTSTAMP:20260420T080242
CREATED:20260407T150106Z
LAST-MODIFIED:20260407T150106Z
UID:2954-1778958000-1778961600@www.maplequartet.com
SUMMARY:Candlelight: The Best of Hans Zimmer
DESCRIPTION:⭐   Candlelight    concerts bring the magic of a live\, multi-sensory musical experience to awe-inspiring locations like never seen before in Vancouver. Get your tickets now to discover the music of Hans Zimmer at Christ Church Cathedral under the gentle glow of candlelight.   \n🌸  To celebrate Candlelight Spring\, a limited number of sessions feature a special floral setting. All other sessions follow the standard Candlelight setup. See the dates below.   \n General Info\n📍 Venue: Christ Church Cathedral\n📅 Dates and times: select your dates/times directly in the ticket selector\n⏳ Duration: 60 minutes. Doors open 45 minutes before the show. No entry once it starts.\n👤 Age recommendation: The experience is recommended for those who are 8+. To preserve the experience\, disruptive behaviour may result in being asked to step outside. Anyone under the age of 16 must be accompanied by an adult.\n♿ Accessibility: this venue is accessible for people with reduced mobility\n❓ View the FAQs for this event  here\n🪑 Seating is assigned on a first come first served basis in each zone\n🕯️ If you would like to book a private concert or buy regular tickets for a large group (+30 people)\, click  here\n🎻 Check out all the  Candlelight concerts  in Vancouver\n🎁 To treat your friends and family to a Candlelight gift card\, click  here   \n Tentative Program  \n	 Time from  Inception\n	 This Land from  The Lion King\n	 Zooster’s Breakout from  Madagascar\n	 Supermarine from  Dunkirk\n	 Honor from  The Pacific\n	 A Dark Knight from  The Dark Knight\n	  Wonder Woman  Suite\n	  Gladiator  Suite\n	 Cornfield Chase from  Interstellar\n	  Dune  Suite\n	 Discombobulate from  Sherlock Holmes\n	  Pirates of the Caribbean  Suite  \n  \n  Sessions with Candlelight Spring flower setting:   \n	 April 18  \n Performers\nString Quartet: \n	 2 violins\n	 1 viola\n	 1 cello  \n  \n  Seating Map   \nEvent Details\n\nVenue: Christ Church Cathedral – Vancouver\nCity: Vancouver\nShowtimes: 8:30p\, 6:30p\nPerformers: Listeso String Quartet\n\nBuy Tickets  |  Get a Quote
URL:https://www.maplequartet.com/concert/candlelight-the-best-of-hans-zimmer-2/
LOCATION:Christ Church Cathedral – Vancouver\, Vancouver\, US
END:VEVENT
END:VCALENDAR