BEGIN:VCALENDAR
VERSION:2.0
PRODID:-//Maple String Quartet • Vancouver Based Musicians - ECPv6.15.20//NONSGML v1.0//EN
CALSCALE:GREGORIAN
METHOD:PUBLISH
X-WR-CALNAME:Maple String Quartet • Vancouver Based Musicians
X-ORIGINAL-URL:https://www.maplequartet.com
X-WR-CALDESC:Events for Maple String Quartet • Vancouver Based Musicians
REFRESH-INTERVAL;VALUE=DURATION:PT1H
X-Robots-Tag:noindex
X-PUBLISHED-TTL:PT1H
BEGIN:VTIMEZONE
TZID:America/Vancouver
BEGIN:DAYLIGHT
TZOFFSETFROM:-0800
TZOFFSETTO:-0700
TZNAME:PDT
DTSTART:20250309T100000
END:DAYLIGHT
BEGIN:STANDARD
TZOFFSETFROM:-0700
TZOFFSETTO:-0800
TZNAME:PST
DTSTART:20251102T090000
END:STANDARD
BEGIN:DAYLIGHT
TZOFFSETFROM:-0800
TZOFFSETTO:-0700
TZNAME:PDT
DTSTART:20260308T100000
END:DAYLIGHT
BEGIN:STANDARD
TZOFFSETFROM:-0700
TZOFFSETTO:-0800
TZNAME:PST
DTSTART:20261101T090000
END:STANDARD
BEGIN:DAYLIGHT
TZOFFSETFROM:-0800
TZOFFSETTO:-0700
TZNAME:PDT
DTSTART:20270314T100000
END:DAYLIGHT
BEGIN:STANDARD
TZOFFSETFROM:-0700
TZOFFSETTO:-0800
TZNAME:PST
DTSTART:20271107T090000
END:STANDARD
END:VTIMEZONE
BEGIN:VEVENT
DTSTART;TZID=America/Vancouver:20260327T190000
DTEND;TZID=America/Vancouver:20260327T200000
DTSTAMP:20260420T062115
CREATED:20260328T001538Z
LAST-MODIFIED:20260328T001538Z
UID:2927-1774638000-1774641600@www.maplequartet.com
SUMMARY:Candlelight: Tribute to Adele
DESCRIPTION:Overview\nCandlelight concerts bring the magic of a live\, multi-sensory musical experience to awe-inspiring locations never before used for this purpose in Vancouver. Discover the music of Adele at the Kerrisdale Presbyterian Church under the gentle glow of candlelight. \nGeneral Info\n\n📍 Venue: Kerrisdale Presbyterian Church\n⏳ Duration: 60 minutes. Doors open 45 minutes before the show and close 5 minutes prior to the start. Late arrivals will not be permitted\n👤 Age requirement: 8 years old or older. Anyone under the age of 16 must be accompanied by an adult\n♿ Accessibility: This venue is accessible for people with reduced mobility\n🪑 Seating: Seating is assigned on a first come first served basis in each zone\n\nTentative Program\n\nHello\nRumour Has It\nMake You Feel My Love\nWater Under the Bridge\nOh My God\nSomeone Like You\nSend My Love (To Your New Lover)\nChasing Pavements\nSkyfall\nWhen We Were Young\nSet Fire to the Rain\nEasy On Me\nRolling in the Deep\n\nPerformers\n🎻 String Quartet: 2 violins\, 1 viola\, 1 cello \nBook a Private Event\nLooking to create an unforgettable experience for your wedding\, or special occasion? We offer private event bookings with customized programs tailored to your needs. \nGet a quote
URL:https://www.maplequartet.com/concert/candlelight-tribute-to-adele/
LOCATION:Kerrisdale Presbyterian Church\, Vancouver\, US
CATEGORIES:Vancouver, BC
ATTACH;FMTTYPE=image/jpeg:https://www.maplequartet.com/wp-content/uploads/2026/03/c691a5b2-2128-11f0-ac95-e67227f9b810-FWgYmZ-uVJVRv.jpg
END:VEVENT
BEGIN:VEVENT
DTSTART;TZID=America/Vancouver:20260328T183000
DTEND;TZID=America/Vancouver:20260328T193000
DTSTAMP:20260420T062115
CREATED:20260328T001538Z
LAST-MODIFIED:20260328T001538Z
UID:2929-1774722600-1774726200@www.maplequartet.com
SUMMARY:Candlelight: Tribute to Queen and The Beatles
DESCRIPTION:Overview\nCandlelight concerts bring the magic of a live\, multi-sensory musical experience to awe-inspiring locations like never seen before in Vancouver. Get your tickets now to discover the music of Queen and The Beatles at Kerrisdale Presbyterian Church under the gentle glow of candlelight. \nGeneral Info\n\n📍 Venue: Kerrisdale Presbyterian Church\n⏳ Duration: 60 minutes. Doors open 30 minutes before the show. No entry once it starts.\n👤 Age recommendation: The experience is recommended for those who are 8+. To preserve the experience\, disruptive behaviour may result in being asked to step outside. Anyone under the age of 16 must be accompanied by an adult.\n♿ Accessibility: the balcony is not accessible\n🪑 Seating: Seating is assigned on a first come first served basis in each zone\n\nTentative Program\n\nHere Comes the Sun – The Beatles\nBlackbird – The Beatles\nHelp! – The Beatles\nCome Together – The Beatles\nYesterday – The Beatles\nAll You Need Is Love – The Beatles\nLove of My Life – Queen\nAnother One Bites the Dust – Queen\nI Want to Break Free – Queen\nWe Are the Champions – Queen\nWe Will Rock You – Queen\nRadio Ga-Ga – Queen\nBohemian Rhapsody – Queen\n\nPerformers\n🎻 String Quartet: 2 violins\, 1 viola\, 1 cello \nBook a Private Event\nLooking to create an unforgettable experience for your wedding\, or special occasion? We offer private event bookings with customized programs tailored to your needs. \nGet a quote
URL:https://www.maplequartet.com/concert/candlelight-tribute-to-queen-and-the-beatles/
LOCATION:Kerrisdale Presbyterian Church\, Vancouver\, US
CATEGORIES:Vancouver, BC
ATTACH;FMTTYPE=image/jpeg:https://www.maplequartet.com/wp-content/uploads/2026/03/675fe2d2-1a9f-11f0-8be7-b25552496a35-0vaxuo-KlwCBR.jpg
END:VEVENT
BEGIN:VEVENT
DTSTART;TZID=America/Vancouver:20260328T190000
DTEND;TZID=America/Vancouver:20260328T200000
DTSTAMP:20260420T062115
CREATED:20260328T001538Z
LAST-MODIFIED:20260328T001538Z
UID:2932-1774724400-1774728000@www.maplequartet.com
SUMMARY:Candlelight: Tribute to ABBA
DESCRIPTION:Overview\nCandlelight concerts bring the magic of a live\, multi-sensory musical experience to awe-inspiring locations like never seen before in Vancouver. Get your tickets now to discover the music of ABBA at Christ Church Cathedral under the gentle glow of candlelight. \nGeneral Info\n\n📍 Venue: Christ Church Cathedral\n⏳ Duration: 60 minutes. Doors open 45 minutes before the show. No entry once it starts.\n👤 Age recommendation: The experience is recommended for those who are 8+. To preserve the experience\, disruptive behaviour may result in being asked to step outside. Anyone under the age of 16 must be accompanied by an adult.\n♿ Accessibility: This venue is accessible for people with reduced mobility\n🪑 Seating: Seating is assigned on a first come first served basis in each zone\n\nTentative Program\n\nDancing Queen\nSOS\nMoney\, Money\, Money\nThe Winner Takes it All\nVoulez-Vous\nAngeleyes\nWaterloo\nFernando\nKnowing Me\, Knowing You\nChiquitita\nLay All Your Love On Me\nSuper Trouper\nMamma Mia\n\nPerformers\n🎻 String Quartet: 2 violins\, 1 viola\, 1 cello \nBook a Private Event\nLooking to create an unforgettable experience for your wedding\, or special occasion? We offer private event bookings with customized programs tailored to your needs. \nGet a quote
URL:https://www.maplequartet.com/concert/candlelight-tribute-to-abba/
LOCATION:Christ Church Cathedral\, Vancouver\, Canada
CATEGORIES:Vancouver, BC
ATTACH;FMTTYPE=image/jpeg:https://www.maplequartet.com/wp-content/uploads/2026/03/f51b8418-25ae-11f0-a83d-9e59e0727bbd-T9Hkls-D1Qdif.jpg
END:VEVENT
END:VCALENDAR